BEGIN:VCALENDAR
VERSION:2.0
PRODID:-//ChamberMaster//Event Calendar 2.0//EN
METHOD:PUBLISH
X-PUBLISHED-TTL:P3D
REFRESH-INTERVAL:P3D
CALSCALE:GREGORIAN
BEGIN:VEVENT
DTSTART:20111027T220000Z
DTEND:20111028T000000Z
X-MICROSOFT-CDO-ALLDAYEVENT:FALSE
SUMMARY:Business After Hours 10/27/11
DESCRIPTION:Join the KCK Chamber and the Cheeseburger in Paradise for an evening of food\, drinks\, and great networking opportunities. This event is free and open to the public.
X-ALT-DESC;FMTTYPE=text/html:Join the KCK&nbsp\;Chamber and the <a href="http://www.cheeseburgerinparadise.com"><span style="color: #ff0000"><span><span style="background-color: #ffffff">Cheeseburger</span></span> in Paradise </span></a>for an evening of food\, drinks\, and great networking opportunities.&nbsp\;This event is free and open to the public.
LOCATION:1705 Village West Parkway Kansas City\, KS 66111
UID:e.1213.10
SEQUENCE:3
DTSTAMP:20260426T041207Z
URL:https://business.kckchamber.com/events/details/business-after-hours-10-27-11-10-27-2011-10
END:VEVENT

END:VCALENDAR
