BEGIN:VCALENDAR
VERSION:2.0
PRODID:-//ChamberMaster//Event Calendar 2.0//EN
METHOD:PUBLISH
X-PUBLISHED-TTL:P3D
REFRESH-INTERVAL:P3D
CALSCALE:GREGORIAN
BEGIN:VEVENT
DTSTART:20111130T230000Z
DTEND:20111201T010000Z
X-MICROSOFT-CDO-ALLDAYEVENT:FALSE
SUMMARY:Business After Hours
DESCRIPTION:Join the KCK Chamber and the Best Western KC Speedway Inn and Suites for an evening of food\, drinks\, and great networking opportunities. This event is free and open to the public.
X-ALT-DESC;FMTTYPE=text/html:Join the KCK&nbsp\;Chamber and the <a href="http://www.bestwesternkansas.com/hotels/best-western-kc-speedway-inn-and-suites">Best Western KC Speedway Inn and Suites </a>for an evening of food\, drinks\, and great networking opportunities.&nbsp\;This event is free and open to the public.
LOCATION:10401 France Family Drive Kansas City\, KS 66111
UID:e.1213.24
SEQUENCE:3
DTSTAMP:20260426T041002Z
URL:https://business.kckchamber.com/events/details/business-after-hours-11-30-2011-24
END:VEVENT

END:VCALENDAR
