BEGIN:VCALENDAR
VERSION:2.0
PRODID:-//ChamberMaster//Event Calendar 2.0//EN
METHOD:PUBLISH
X-PUBLISHED-TTL:P3D
REFRESH-INTERVAL:P3D
CALSCALE:GREGORIAN
BEGIN:VEVENT
DTSTART:20130822T220000Z
DTEND:20130823T000000Z
X-MICROSOFT-CDO-ALLDAYEVENT:FALSE
SUMMARY:Business After Hours August 22\, 2013
DESCRIPTION:Join us for Business After Hours\, Thursday\, Aug. 22\, 5:00 p.m.   7:00 p.m. at the Horace Mann Lofts\, 824 State Ave.\, Kansas City\, Kan. Horace Mann Lofts is a modern luxury loft project of Foutch Brothers\, with brand new apartments in a historic brick school. The building is just minutes from downtown Kansas City\, Mo in central downtown Kansas City\, Kan. A premier neighborhood in the early 20th century\, the area continues to see restoration and revitalization begun in the 1990s. Foutch Brothers works with communities to save existing and historic buildings. They work with residents and business leaders to determine what housing or services are needed in the vicinity. And they design and build new apartments\, office\, and community spaces to sustainably reuse the building and site. In doing so\, they are able to restore neighborhoods\, create new architecture\, and complete projects many thought impossible. Come see this bright and spacious apartment community\, originally built in 1909\, designed for people who appreciate design.
X-ALT-DESC;FMTTYPE=text/html:<span style="font-family: times new roman"><span style="font-size: 12pt"><span style="font-family: times new roman\, serif">Join us for Business After Hours\, Thursday\, Aug. 22\, 5:00 p.m. &ndash\; 7:00 p.m. at the Horace Mann Lofts\, 824 State Ave.\, Kansas City\, Kan. Horace Mann Lofts is a modern luxury loft project of Foutch Brothers\, with brand new apartments in a historic brick school. The building is just minutes from downtown Kansas City\, Mo in central downtown Kansas City\, Kan. A premier neighborhood in the early 20<sup>th</sup> century\, the area continues to see restoration and revitalization begun in the 1990s. Foutch Brothers </span></span></span><span style="font-size: 12pt"><span style="font-family: times new roman\, serif">works with communities to save existing and historic buildings.&nbsp\;They work with residents and business leaders to determine what housing or services are needed in the vicinity.&nbsp\;And they design and build new apartments\, office\, and community spaces to sustainably reuse the building and site. In doing so\, they are able to restore neighborhoods\, create new architecture\, and complete projects many thought impossible. Come see this </span></span><span style="font-size: 12pt"><span style="font-family: times new roman\, serif">bright and spacious apartment community\, originally built in 1909\, designed for people who appreciate design.</span></span><br />\n<br />\n
LOCATION:Horace Mann 824 State Kansas City\, Kan.
UID:e.1213.85
SEQUENCE:3
DTSTAMP:20260424T183207Z
URL:https://business.kckchamber.com/events/details/business-after-hours-august-22-2013-08-22-2013-85
END:VEVENT

END:VCALENDAR
