BEGIN:VCALENDAR
VERSION:2.0
PRODID:-//ChamberMaster//Event Calendar 2.0//EN
METHOD:PUBLISH
X-PUBLISHED-TTL:P3D
REFRESH-INTERVAL:P3D
CALSCALE:GREGORIAN
BEGIN:VEVENT
DTSTART:20151021T220000Z
DTEND:20151022T000000Z
X-MICROSOFT-CDO-ALLDAYEVENT:FALSE
SUMMARY:Business After Hours - Country Club Bank - October 2015
DESCRIPTION:Celebrating 10 years in Wyandotte County!\n\nIn honor of our 10th anniversary the Directors and Officers of Country Club Bank cordially invite you to a Kansas City Kansas Area Chamber Business After Hours\n\n\n\nLight hors d'ouevres\, beer\, wine and soft drinks provided
X-ALT-DESC;FMTTYPE=text/html:<strong><span style="font-size: 18px\;">Celebrating 10 years in Wyandotte County!</span></strong>\n\n<p align="LEFT"><span style="font-size: 16px\;"><span style="font-family: arial\;">In honor of our 10th anniversary the Directors and Officers of Country Club Bank cordially invite you to a Kansas City Kansas Area Chamber Business After Hours<br />\n<br />\nLight hors d&rsquo\;ouevres\, beer\, wine and soft drinks provided</span></span></p>\n<br />\n&nbsp\;
LOCATION:Country Club Bank\, Village West Financial Center 11006 Parallel Parkway Kansas City\, KS 66109
UID:e.1213.259
SEQUENCE:3
DTSTAMP:20260421T003420Z
URL:https://business.kckchamber.com/events/details/business-after-hours-country-club-bank-october-2015-10-21-2015-259
END:VEVENT

END:VCALENDAR
