BEGIN:VCALENDAR
VERSION:2.0
PRODID:-//ChamberMaster//Event Calendar 2.0//EN
METHOD:PUBLISH
X-PUBLISHED-TTL:P3D
REFRESH-INTERVAL:P3D
CALSCALE:GREGORIAN
BEGIN:VEVENT
DTSTART:20150827T213000Z
DTEND:20150827T233000Z
X-MICROSOFT-CDO-ALLDAYEVENT:FALSE
SUMMARY:Business After Hours - dot POP!shop
DESCRIPTION:DRINK\, EAT & NETWORK \n\nThe KCK Chamber invites you to join us in celebration of our new member and neighbor\, dot POP!Shop.
X-ALT-DESC;FMTTYPE=text/html:<span style="font-family:arial\,sans-serif\;"><span style="font-size:21pt\;">DRINK\, EAT &amp\; NETWORK&nbsp\;</span></span><br />\n<span style="bottom: auto\; box-sizing: content-box\; clear: none\; color: rgb(0\, 0\, 0)\; content: normal\; direction: inherit\; empty-cells: show\; font-family: Arial\, Verdana\, sans-serif\; font-size: 14.4444446563721px\; font-stretch: inherit\; left: auto\; line-height: 20.7999992370605px\; margin: 0px\; max-height: none\; max-width: none\; opacity: 1\; outline: invert none medium\; outline-offset: 0px\; overflow: visible\; padding: 0px\; position: static\; resize: none\; right: auto\; table-layout: auto\; text-overflow: clip\; top: auto\; vertical-align: baseline\; visibility: inherit\; word-break: inherit\; word-wrap: inherit\; z-index: auto\; border: none\; border-collapse: separate\; border-image-source: none\; border-image-slice: 100% 1 0\; border-image-repeat: stretch\; border-radius: 0px\; height: auto\; width: auto\; box-shadow: none\; background-image: none\; background-attachment: initial\; background-size: initial\; background-origin: initial\; background-clip: initial\; background-position: initial\; background-repeat: initial\;">The KCK Chamber invites you to join us in celebration of our new member and neighbor\, dot POP!Shop. &nbsp\;</span>
LOCATION:dotPOP!shop 731 Minnesota Avenue Kansas City\, KS 66111
UID:e.1213.267
SEQUENCE:3
DTSTAMP:20260421T053646Z
URL:https://business.kckchamber.com/events/details/business-after-hours-dot-pop-shop-08-27-2015-267
END:VEVENT

END:VCALENDAR
