BEGIN:VCALENDAR
VERSION:2.0
PRODID:-//ChamberMaster//Event Calendar 2.0//EN
METHOD:PUBLISH
X-PUBLISHED-TTL:P3D
REFRESH-INTERVAL:P3D
CALSCALE:GREGORIAN
BEGIN:VEVENT
DTSTART:20130328T220000Z
DTEND:20130329T000000Z
X-MICROSOFT-CDO-ALLDAYEVENT:FALSE
SUMMARY:Business After Hours March 2013
DESCRIPTION:Come visit Heartland Habitat for Humanity ReStore's new location\, 1270 Merriam Lane\, March 28\, 5:00 p.m.   7:00 p.m. and enjoy delicious appetizers from Ross's Catering for Business After Hours.\n\n\n\nHeartland Habitat for Humanity ReStore is a public retail outlet that sells quality new and used surplus building materials and appliances that are priced at 20 percent to 80 percent off retail. All items in the store are donated\, including fixtures\, furniture\, appliances and construction materials. The net income received helps fund the construction of additional Heartland Habitat homes and communities. Heartland Habitat ReStore helps keep the community green by re-channeling and re-using good\, functional materials instead of adding them to landfills   to the tune of more than 2\,000 tons annually!\n\n\n\nRoss's Catering has more than 30 years of restaurant and banquet experience and a long track record of providing exceptional food and service at reasonable prices. Find them online at http://ross-catering.com/.
X-ALT-DESC;FMTTYPE=text/html:<span style="font-size: 12pt"><span style="color: black"><span style="font-family: times new roman\, serif">Come visit Heartland Habitat for Humanity ReStore&rsquo\;s new location\, 1270 Merriam Lane\, March 28\, 5:00 p.m. &ndash\; 7:00 p.m. and enjoy delicious appetizers from Ross&#39\;s Catering for Business After Hours.</span></span></span><br />\n<br />\n<span style="font-size: 12pt"><span style="font-family: times new roman\, serif">Heartland Habitat for Humanity ReStore is a&nbsp\;public retail outlet that sells quality new and used surplus building materials and appliances that are priced at 20 percent to 80 percent off retail.&nbsp\;All items in&nbsp\;the store are donated\, including fixtures\, furniture\, appliances and construction materials. The net income received helps fund the construction of additional Heartland Habitat homes and communities. Heartland Habitat ReStore&nbsp\;helps keep the community green by re-channeling and re-using good\, functional materials instead of adding them to landfills &ndash\; to the tune of more than 2\,000 tons annually!<br />\n<br />\nRoss&#39\;s Catering has more than 30 years of&nbsp\;restaurant and banquet experience and a long track record of providing exceptional food and service at reasonable prices. Find them online at <font size="3"><a href="http://ross-catering.com/">http://ross-catering.com/</a>.</font></span></span>
LOCATION:Heartland Habitat for Humanity ReStore 1270 Merriam
UID:e.1213.63
SEQUENCE:3
DTSTAMP:20260425T020921Z
URL:https://business.kckchamber.com/events/details/business-after-hours-march-2013-03-28-2013-63
END:VEVENT

END:VCALENDAR
