BEGIN:VCALENDAR
VERSION:2.0
PRODID:-//ChamberMaster//Event Calendar 2.0//EN
METHOD:PUBLISH
X-PUBLISHED-TTL:P3D
REFRESH-INTERVAL:P3D
CALSCALE:GREGORIAN
BEGIN:VEVENT
DTSTART:20170518T213000Z
DTEND:20170518T233000Z
X-MICROSOFT-CDO-ALLDAYEVENT:FALSE
SUMMARY:Business After Hours-Mason Jar sponsored by Bank Midwest
DESCRIPTION:Join us for another high powered networking event at the popular Mason Jar! Come for their famous wings\, meatballs and a great new patio to enjoy!\n\nThanks to our sponsor\, Bank Midwest\, for their support!
X-ALT-DESC;FMTTYPE=text/html:Join us for another high powered networking event at the popular Mason Jar! Come for their famous&nbsp\;wings\, meatballs and a great new patio to enjoy!<br />\nThanks to our sponsor\, Bank Midwest\, for their support!
LOCATION:Mason Jar 941 N. 74th Drive Kansas City\, KS 66112
UID:e.1213.506
SEQUENCE:3
DTSTAMP:20260419T182057Z
URL:https://business.kckchamber.com/events/details/business-after-hours-mason-jar-sponsored-by-bank-midwest-506
END:VEVENT

END:VCALENDAR
