BEGIN:VCALENDAR
VERSION:2.0
PRODID:-//ChamberMaster//Event Calendar 2.0//EN
METHOD:PUBLISH
X-PUBLISHED-TTL:P3D
REFRESH-INTERVAL:P3D
CALSCALE:GREGORIAN
BEGIN:VEVENT
DTSTART:20130521T220000Z
DTEND:20130522T000000Z
X-MICROSOFT-CDO-ALLDAYEVENT:FALSE
SUMMARY:Business After Hours May 2013
DESCRIPTION:Business After Hours on May 21 will celebrate the 50th Anniversary of Cross-Lines.\n\n\n\nPlease stop by to network\, wish them a happy anniversary and have some great barbecue from Quick's!
X-ALT-DESC;FMTTYPE=text/html:Business After Hours on May 21 will celebrate the 50th Anniversary of Cross-Lines.<br />\n<br />\nPlease stop by to network\, wish them a happy anniversary and have some great barbecue from <a href="http://www.quicksbbqandcatering.com/">Quick&#39\;s!</a>
LOCATION:Cross-lines Community Outreach\, Inc. 736 Shawnee Avenue Kansas City\, KS 66105
UID:e.1213.79
SEQUENCE:3
DTSTAMP:20260424T212024Z
URL:https://business.kckchamber.com/events/details/business-after-hours-may-2013-05-21-2013-79
END:VEVENT

END:VCALENDAR
