BEGIN:VCALENDAR
VERSION:2.0
PRODID:-//ChamberMaster//Event Calendar 2.0//EN
METHOD:PUBLISH
X-PUBLISHED-TTL:P3D
REFRESH-INTERVAL:P3D
CALSCALE:GREGORIAN
BEGIN:VEVENT
DTSTART:20150528T213000Z
DTEND:20150528T233000Z
X-MICROSOFT-CDO-ALLDAYEVENT:FALSE
SUMMARY:Business After Hours -May 2015 MVP
DESCRIPTION:Drink\, eat\, and network\n\nHost & Sponsor - McAnany\, Van Cleave & Pillips\, P.A.
X-ALT-DESC;FMTTYPE=text/html:<span style="font-family: Arial\, Verdana\, sans-serif\; font-size: 14px\; line-height: 20.7999992370605px\;">Drink\, eat\, and network</span><br />\nHost &amp\; Sponsor - McAnany\, Van Cleave &amp\; Pillips\, P.A.
LOCATION:MVP Law 10 East Cambridge Circle Drive Suite 300 Kansas City\, KS 66103
UID:e.1213.247
SEQUENCE:3
DTSTAMP:20260421T085133Z
URL:https://business.kckchamber.com/events/details/business-after-hours-may-2015-mvp-05-28-2015-247
END:VEVENT

END:VCALENDAR
