BEGIN:VCALENDAR
VERSION:2.0
PRODID:-//ChamberMaster//Event Calendar 2.0//EN
METHOD:PUBLISH
X-PUBLISHED-TTL:P3D
REFRESH-INTERVAL:P3D
CALSCALE:GREGORIAN
BEGIN:VEVENT
DTSTART:20151117T223000Z
DTEND:20151118T010000Z
X-MICROSOFT-CDO-ALLDAYEVENT:FALSE
SUMMARY:Business After Hours - November 2015
DESCRIPTION:Global Entrepreneurship Week - Kansas City\n\nKCK Business Showcase\n\nPut Your Business on the Map!\n\nJoin the KCK Chamber\, Wyandotte Economic Development Council\, KCKCC and the Heartland Chamber of Commerce as we celebrate Global Entrepreneuship Week in Kansas City.\n\n\n\nLearn more about how the KCK Chamber and WYEDC can help your business grow and thrive in Wyandotte county. Plus\, we'll have interactive demonstrations where you can learn how to put your business on the map\, build your own free website and take advantage of Google apps and search engines. KCKCC and the Heartland Chamber of Commerce will also be sharing their offerings\, plus much\, much more.   \n\n\n\nLight hors d'ouevres\, beer\, wine and soft drinks provided
X-ALT-DESC;FMTTYPE=text/html:<strong><span style="font-size: 18px\;">Global Entrepreneurship Week - Kansas City<br />\nKCK Business Showcase<br />\nPut Your Business on the Map!</span></strong>\n\n<p align="LEFT"><span style="font-size: 16px\;"><span style="font-family: arial\;">Join the KCK Chamber\, Wyandotte Economic Development Council\,&nbsp\;KCKCC and the Heartland Chamber of Commerce&nbsp\;as we celebrate Global Entrepreneuship&nbsp\;Week in Kansas City.<br />\n<br />\nLearn more about how the KCK Chamber and WYEDC&nbsp\;can help your business grow and thrive in Wyandotte county. Plus\, we&#39\;ll have interactive demonstrations where you can learn how to put your business on the map\, build your own free website and take advantage of Google apps and search engines. KCKCC&nbsp\;and the Heartland Chamber of Commerce&nbsp\;will also be sharing&nbsp\;their offerings\, plus much\, much more. &nbsp\;&nbsp\;<br />\n<br />\nLight hors d&rsquo\;ouevres\, beer\, wine and soft drinks provided</span></span></p>\n<br />\n&nbsp\;
LOCATION:KCK Chamber Offices 727 Minnesota Avenue Kansas City\, KS 66101 913-731-7030
UID:e.1213.279
SEQUENCE:3
DTSTAMP:20260420T231714Z
URL:https://business.kckchamber.com/events/details/business-after-hours-november-2015-11-17-2015-279
END:VEVENT

END:VCALENDAR
