BEGIN:VCALENDAR
VERSION:2.0
PRODID:-//ChamberMaster//Event Calendar 2.0//EN
METHOD:PUBLISH
X-PUBLISHED-TTL:P3D
REFRESH-INTERVAL:P3D
CALSCALE:GREGORIAN
BEGIN:VEVENT
DTSTART:20141209T223000Z
DTEND:20141210T003000Z
X-MICROSOFT-CDO-ALLDAYEVENT:FALSE
SUMMARY:Business After Hours / Ribbon Cutting
DESCRIPTION:Business Networking event
X-ALT-DESC;FMTTYPE=text/html:Business Networking event&nbsp\;
LOCATION:
UID:e.1213.208
SEQUENCE:3
DTSTAMP:20260423T172508Z
URL:https://business.kckchamber.com/events/details/business-after-hours-ribbon-cutting-12-09-2014-208
END:VEVENT

END:VCALENDAR
