BEGIN:VCALENDAR
VERSION:2.0
PRODID:-//ChamberMaster//Event Calendar 2.0//EN
METHOD:PUBLISH
X-PUBLISHED-TTL:P3D
REFRESH-INTERVAL:P3D
CALSCALE:GREGORIAN
BEGIN:VEVENT
DTSTART:20150122T223000Z
DTEND:20150123T003000Z
X-MICROSOFT-CDO-ALLDAYEVENT:FALSE
SUMMARY:Business After Hours / Ribbon Cutting at Topp'd Pizza
DESCRIPTION:Business After Hours / Ribbon Cutting Ceremony
X-ALT-DESC;FMTTYPE=text/html:Business After Hours / Ribbon Cutting Ceremony
LOCATION:Topp'd Pizza 3934 Rainbow Boulevard Kansas City\, Kansas
UID:e.1213.221
SEQUENCE:3
DTSTAMP:20260423T154000Z
URL:https://business.kckchamber.com/events/details/business-after-hours-ribbon-cutting-at-topp-d-pizza-01-22-2015-221
END:VEVENT

END:VCALENDAR
