BEGIN:VCALENDAR
VERSION:2.0
PRODID:-//ChamberMaster//Event Calendar 2.0//EN
METHOD:PUBLISH
X-PUBLISHED-TTL:P3D
REFRESH-INTERVAL:P3D
CALSCALE:GREGORIAN
BEGIN:VEVENT
DTSTART:20150730T213000Z
DTEND:20150730T233000Z
X-MICROSOFT-CDO-ALLDAYEVENT:FALSE
SUMMARY:Business After Hours - Schlitterbahn July 2015
DESCRIPTION:DRINK\, EAT & NETWORK
X-ALT-DESC;FMTTYPE=text/html:<span style="font-family:arial\,sans-serif\;"><span style="font-size:21pt\;">DRINK\, EAT &amp\; NETWORK&nbsp\;</span></span><br />\n&nbsp\;
LOCATION:Schlitterbahn 9400 State Ave\, Kansas City\, KS 66112
UID:e.1213.264
SEQUENCE:3
DTSTAMP:20260421T054728Z
URL:https://business.kckchamber.com/events/details/business-after-hours-schlitterbahn-july-2015-07-30-2015-264
END:VEVENT

END:VCALENDAR
