BEGIN:VCALENDAR
VERSION:2.0
PRODID:-//ChamberMaster//Event Calendar 2.0//EN
METHOD:PUBLISH
X-PUBLISHED-TTL:P3D
REFRESH-INTERVAL:P3D
CALSCALE:GREGORIAN
BEGIN:VEVENT
DTSTART:20150625T213000Z
DTEND:20150625T230000Z
X-MICROSOFT-CDO-ALLDAYEVENT:FALSE
SUMMARY:Business After Hours - StartUp Village - June 2015
DESCRIPTION:DRINK\, EAT & NETWORK \n\nJoin us for an exclusive look at  KCK's most dynamic start-up community\, Kansas City StartUp Village. KCSV  is an entrepreneur-led community helping to grow and support Kansas City entrepreneurs and the startup ecosystem. Village co-leaders Adam Arredonodo and Matthew Marcus welcome the KCK Chamber to an all-access preview of this community with a neighborhood tour and pitch presentations from the startup villagers.
X-ALT-DESC;FMTTYPE=text/html:<span style="font-family:arial\,sans-serif\;"><span style="font-size:21pt\;">DRINK\, EAT &amp\; NETWORK&nbsp\;</span></span><br />\n<span style="font-size:16px\;"><span style="font-family:arial\;"><span style="color:black\;">Join us for an exclusive look at &nbsp\;KCK&#39\;s&nbsp\;most dynamic start-up community\, Kansas City&nbsp\;StartUp</span>&nbsp\;Village.&nbsp\;KCSV &nbsp\;is an entrepreneur-led community helping to grow and support Kansas City entrepreneurs and the startup ecosystem. Village co-leaders Adam Arredonodo and Matthew Marcus welcome the KCK Chamber to an all-access preview of this community with a neighborhood tour and pitch presentations from the startup villagers. &nbsp\;</span></span>
LOCATION:Village Square 4436 State Line Road Kansas City\, KS 66103
UID:e.1213.255
SEQUENCE:3
DTSTAMP:20260421T070146Z
URL:https://business.kckchamber.com/events/details/business-after-hours-startup-village-june-2015-06-25-2015-255
END:VEVENT

END:VCALENDAR
