BEGIN:VCALENDAR
VERSION:2.0
PRODID:-//ChamberMaster//Event Calendar 2.0//EN
METHOD:PUBLISH
X-PUBLISHED-TTL:P3D
REFRESH-INTERVAL:P3D
CALSCALE:GREGORIAN
BEGIN:VEVENT
DTSTART:20140828T210000Z
DTEND:20140828T230000Z
X-MICROSOFT-CDO-ALLDAYEVENT:FALSE
SUMMARY:Business After Hours with Unity One Credit Union
DESCRIPTION:Business After Hours\n\n\n\nCome network with us during Business After Hours at Unity One Credit Union\, 4:00 p.m.   6:00 p.m. on Thursday\, Aug. 28. Unity One Credit Union will be offering free business shredding services through ProShred. Door from 4:30 p.m. - 6:30 p.m.\, prizes\, drinks and hors d'oeuvres. Heartland Habitat for Humanity will also be on site to share the good work they are doing in the community. You can also sign up to be a Habitat volunteer.
X-ALT-DESC;FMTTYPE=text/html:Business After Hours<br />\n<br />\n<span style="font-family:times new roman\,serif\;"><span style="font-size:12.0pt\;">Come network with us during Business After Hours at <a href="https://www.unityone.org/home.html">Unity One Credit Union</a>\, 4:00 p.m. &ndash\; 6:00 p.m. on Thursday\, Aug. 28. Unity One Credit Union will be offering free business shredding services through ProShred. Door from 4:30 p.m. - 6:30 p.m.\, prizes\, drinks and hors d&#39\;oeuvres. Heartland Habitat for Humanity will also be on site to share the good work they are doing in the community. You can also sign up to be a Habitat volunteer.</span></span><br />\n&nbsp\;
LOCATION:Unity One Credit Union 4150 Kansas Ave. Kansas City\, Kansas
UID:e.1213.181
SEQUENCE:3
DTSTAMP:20260423T232032Z
URL:https://business.kckchamber.com/events/details/business-after-hours-with-unity-one-credit-union-08-28-2014-181
END:VEVENT

END:VCALENDAR
