BEGIN:VCALENDAR
VERSION:2.0
PRODID:-//ChamberMaster//Event Calendar 2.0//EN
METHOD:PUBLISH
X-PUBLISHED-TTL:P3D
REFRESH-INTERVAL:P3D
CALSCALE:GREGORIAN
BEGIN:VEVENT
DTSTART:20130423T130000Z
DTEND:20130423T143000Z
X-MICROSOFT-CDO-ALLDAYEVENT:FALSE
SUMMARY:Business Before Hours
DESCRIPTION:Alphapointe\, KCK Chamber member since 2008\, is hosting an April 23 Business Before Hours\, 8:00 a.m.   9:30 a.m.\, at their Life Skills Campus at 7501 Prospect\, Kansas City\, Mo. Alphapointe is a private\, non-profit 501(c)(3) organization that serves people who are blind and visually impaired. It is the largest single employer of persons with vision loss in Missouri\, employing 250 people\, almost half of which are visually impaired\, in areas such as manufacturing and call center support. But Alphapointe does even more than that-- Every day office supplies are sold online to help support its mission. Come to the Business Before Hours to learn what Alphapointe has to offer you. This event is free and registration is not required. For more information\, contact Bridget Koan\, bridget@kckchamber.com or 913-748-2303.\n\n\n\nSchedule\n\nNetworking 8:00 a.m. - 9:00 a.m.\n\nIntroductions/Door Prizes    8:30 a.m.\n\nTours (30 min)    8:45 a.m. and 9:00 a.m.
X-ALT-DESC;FMTTYPE=text/html:<span style="font-family: arial"><span style="font-size: 12px">Alphapointe\, KCK Chamber member since 2008\, is hosting an April 23 Business <strong><em>Before</em></strong> Hours\, 8:00 a.m. &ndash\; 9:30 a.m.\, at their Life Skills Campus at 7501 Prospect\, Kansas City\, Mo. Alphapointe is a private\, non-profit 501(c)(3) organization that serves people who are blind and visually impaired. It is the largest single employer of persons with vision loss in Missouri\, </span></span>employing 250 people\, almost half of which are visually impaired\, in areas such as manufacturing and call center support. But Alphapointe does even more than that<span style="color: #1f497d">--</span><span style="font-size: medium"><span style="font-family: calibri"> <span style="font-size: 12px"><span style="font-family: arial">Every day office supplies</span></span></span></span><span style="font-size: 12px"><span style="font-family: arial"> </span></span><span style="font-size: 12pt"><span style="font-size: 12px"><span style="font-family: arial">are sold </span>online</span></span><span style="font-size: 12px"> </span>to help support its mission. Come to the Business Before Hours to learn what Alphapointe has to offer you. This event is free and registration is not required. For more information\, contact Bridget Koan\, <a href="mailto:bridget@kckchamber.com">bridget@kckchamber.com</a> or 913-748-2303.<br />\n<br />\nSchedule<br />\nNetworking 8:00 a.m. - 9:00 a.m.<br />\nIntroductions/Door Prizes&nbsp\;&nbsp\;&nbsp\;&nbsp\;8:30 a.m.<br />\nTours (30 min)&nbsp\;&nbsp\;&nbsp\;&nbsp\;8:45 a.m. and 9:00 a.m.
LOCATION:Alphapointe 7501 Prospect Kansas City\, MO 64132
UID:e.1213.70
SEQUENCE:3
DTSTAMP:20260424T225221Z
URL:https://business.kckchamber.com/events/details/business-before-hours-04-23-2013-70
END:VEVENT

END:VCALENDAR
