BEGIN:VCALENDAR
VERSION:2.0
PRODID:-//ChamberMaster//Event Calendar 2.0//EN
METHOD:PUBLISH
X-PUBLISHED-TTL:P3D
REFRESH-INTERVAL:P3D
CALSCALE:GREGORIAN
BEGIN:VEVENT
DTSTART:20130726T123000Z
DTEND:20130726T143000Z
X-MICROSOFT-CDO-ALLDAYEVENT:FALSE
SUMMARY:Business Before Hours
DESCRIPTION:Join us for a Business Before Hours at Sam's Club - Village West!
X-ALT-DESC;FMTTYPE=text/html:Join us for a Business Before Hours at Sam&#39\;s Club - Village West!
LOCATION:Sam's Club - Village West 10510 Parallel Parkway Kansas City\, KS 66109
UID:e.1213.82
SEQUENCE:3
DTSTAMP:20260424T184141Z
URL:https://business.kckchamber.com/events/details/business-before-hours-07-26-2013-82
END:VEVENT

END:VCALENDAR
