BEGIN:VCALENDAR
VERSION:2.0
PRODID:-//ChamberMaster//Event Calendar 2.0//EN
METHOD:PUBLISH
X-PUBLISHED-TTL:P3D
REFRESH-INTERVAL:P3D
CALSCALE:GREGORIAN
BEGIN:VEVENT
DTSTART:20131018T123000Z
DTEND:20131018T140000Z
X-MICROSOFT-CDO-ALLDAYEVENT:FALSE
SUMMARY:Business Before Hours
DESCRIPTION:Help Sam's Club at Village West celebrate their one year anniversary at this special Business Before Hours.
X-ALT-DESC;FMTTYPE=text/html:Help <strong>Sam&#39\;s Club&nbsp\;at Village West </strong>celebrate their <strong>one year anniversary </strong>at this special Business Before Hours.
LOCATION:Sam's Club -- Village West 10510 Parallel Parkway Kansas City\, KS 66109
UID:e.1213.107
SEQUENCE:3
DTSTAMP:20260424T141945Z
URL:https://business.kckchamber.com/events/details/business-before-hours-10-18-2013-107
END:VEVENT

END:VCALENDAR
