BEGIN:VCALENDAR
VERSION:2.0
PRODID:-//ChamberMaster//Event Calendar 2.0//EN
METHOD:PUBLISH
X-PUBLISHED-TTL:P3D
REFRESH-INTERVAL:P3D
CALSCALE:GREGORIAN
BEGIN:VEVENT
DTSTART:20140612T123000Z
DTEND:20140612T140000Z
X-MICROSOFT-CDO-ALLDAYEVENT:FALSE
SUMMARY:Business Before Hours at Sam's Club -- Village West
DESCRIPTION:Join us for Business Before Hours at Sam's Club -- Village West!
X-ALT-DESC;FMTTYPE=text/html:Join us for Business Before Hours at Sam&#39\;s Club -- Village West!
LOCATION:Sam's Club 10510 Parallel Parkway Kansas City\, Kansas 66109
UID:e.1213.176
SEQUENCE:3
DTSTAMP:20260424T021235Z
URL:https://business.kckchamber.com/events/details/business-before-hours-at-sam-s-club-village-west-06-12-2014-176
END:VEVENT

END:VCALENDAR
