BEGIN:VCALENDAR
VERSION:2.0
PRODID:-//ChamberMaster//Event Calendar 2.0//EN
METHOD:PUBLISH
X-PUBLISHED-TTL:P3D
REFRESH-INTERVAL:P3D
CALSCALE:GREGORIAN
BEGIN:VEVENT
DTSTART:20130910T130000Z
DTEND:20130910T143000Z
X-MICROSOFT-CDO-ALLDAYEVENT:FALSE
SUMMARY:Business Solutions 2013: Trench Marketing
DESCRIPTION:Learn how to grow your business from behind the counter. Rudolf Waldner\, author of Marketing from the Trenches\, is the featured speaker.
X-ALT-DESC;FMTTYPE=text/html:Learn how to grow your business from behind the counter. Rudolf Waldner\, author of <em>Marketing from the Trenches</em>\, is the featured speaker.
LOCATION:KCK Community College Flint Building Kansas City\, Kansas
UID:e.1213.86
SEQUENCE:3
DTSTAMP:20260424T155740Z
URL:https://business.kckchamber.com/events/details/business-solutions-2013-trench-marketing-09-10-2013-86
END:VEVENT

END:VCALENDAR
