BEGIN:VCALENDAR
VERSION:2.0
PRODID:-//ChamberMaster//Event Calendar 2.0//EN
METHOD:PUBLISH
X-PUBLISHED-TTL:P3D
REFRESH-INTERVAL:P3D
CALSCALE:GREGORIAN
BEGIN:VEVENT
DTSTART:20131210T133000Z
DTEND:20131210T150000Z
X-MICROSOFT-CDO-ALLDAYEVENT:FALSE
SUMMARY:Business Solutions Series 2013 - Blogging as a Marketing Technique
DESCRIPTION:Blogging can be a low-cost\, high return marketing took. Come learn if your company is suited for blogging.\n\n\n\nThe speaker is Katy Ryan Schamberger. Katy's intense love of all things Kansas City has led her to a successful career as a magazine editor and freelance writer\, five years of professional writing that\, next spring\, will see her greatest accomplishment to date: the publication of a first-edition Kansas City guidebook. Katy's blog\, "girl about KC\," is a source for all things Kansas City.
X-ALT-DESC;FMTTYPE=text/html:<span style="font-size: 12pt"><span style="color: black"><span style="font-family: times new roman\, serif"><span style="font-family: times new roman">Blogging can be a low-cost\, high return marketing took. Come learn if your company is suited for blogging.<br />\n<br />\nThe speaker is Katy Ryan Schamberger. Katy&rsquo\;s intense love of all things Kansas City has led her to a successful career as a magazine editor and freelance writer\, five years of professional writing that\, next spring\, will see her greatest accomplishment to date: the publication of a first-edition Kansas City guidebook. Katy&rsquo\;s blog\, &ldquo\;girl about KC\,&rdquo\; is a source for all things Kansas City.</span></span></span></span>
LOCATION:KCK Community College Flint Building 7250 State Ave. Kansas City\, KS 66112
UID:e.1213.91
SEQUENCE:3
DTSTAMP:20260424T125627Z
URL:https://business.kckchamber.com/events/details/business-solutions-series-2013-blogging-as-a-marketing-technique-12-10-2013-91
END:VEVENT

END:VCALENDAR
