BEGIN:VCALENDAR
VERSION:2.0
PRODID:-//ChamberMaster//Event Calendar 2.0//EN
METHOD:PUBLISH
X-PUBLISHED-TTL:P3D
REFRESH-INTERVAL:P3D
CALSCALE:GREGORIAN
BEGIN:VEVENT
DTSTART:20131120T133000Z
DTEND:20131120T153000Z
X-MICROSOFT-CDO-ALLDAYEVENT:FALSE
SUMMARY:Business Solutions Series 2013 - Entrepreneur Spotlight
DESCRIPTION:Come listen to a variety of Kansas City's most decorated entrepreneurs as they share their stories of what led them to their current success.
X-ALT-DESC;FMTTYPE=text/html:Come listen to a variety of Kansas City&#39\;s most decorated entrepreneurs as they share their stories of what led them to their current success.
LOCATION:KCK Community College Flint Building 7250 State Ave. Kansas City\, KS 66112
UID:e.1213.90
SEQUENCE:3
DTSTAMP:20260424T125535Z
URL:https://business.kckchamber.com/events/details/business-solutions-series-2013-entrepreneur-spotlight-11-20-2013-90
END:VEVENT

END:VCALENDAR
