BEGIN:VCALENDAR
VERSION:2.0
PRODID:-//ChamberMaster//Event Calendar 2.0//EN
METHOD:PUBLISH
X-PUBLISHED-TTL:P3D
REFRESH-INTERVAL:P3D
CALSCALE:GREGORIAN
BEGIN:VEVENT
DTSTART:20131008T130000Z
DTEND:20131008T143000Z
X-MICROSOFT-CDO-ALLDAYEVENT:FALSE
SUMMARY:Business Solutions Series 2013 - Generating Sales Leads
DESCRIPTION:Get quick tips to generate new sales leads for your business.
X-ALT-DESC;FMTTYPE=text/html:Get quick tips to generate new sales leads for your business.
LOCATION:KCK Community College Flint Building 7250 State Ave. Kansas City\, KS 66112
UID:e.1213.89
SEQUENCE:3
DTSTAMP:20260424T142307Z
URL:https://business.kckchamber.com/events/details/business-solutions-series-2013-generating-sales-leads-10-08-2013-89
END:VEVENT

END:VCALENDAR
