BEGIN:VCALENDAR
VERSION:2.0
PRODID:-//ChamberMaster//Event Calendar 2.0//EN
METHOD:PUBLISH
X-PUBLISHED-TTL:P3D
REFRESH-INTERVAL:P3D
CALSCALE:GREGORIAN
BEGIN:VEVENT
DTSTART:20140513T130000Z
DTEND:20140513T143000Z
X-MICROSOFT-CDO-ALLDAYEVENT:FALSE
SUMMARY:Business Solutions Series -- Affordable Care Act
DESCRIPTION:Insurance can be complicated\, especially as a business owner. Alson Martin\, Larthrop & Gage\, is the featured speaker. Martin is a recognized national authority in the fields of business law\, taxation\, healthcare\, and employee benefits.\n\nHe has carefully followed the 2010 federal health care reform\, has counseled employers on its impact and various techniques to deal with it\, and is the author of an internet blog and book on this subject called "Healthcare Reform Facts\," which discusses what employers and individuals need to know to know about this complex legislation to comply\, take advantage of planning opportunities\, and avoid penalties. \nFor more information\, and to register\, contact Marisa Gray\, mcgray@kckcc.edu or 913-288-7284.
X-ALT-DESC;FMTTYPE=text/html:<span style="font-size: 12px"><span style="font-family: arial">Insurance can be complicated\, especially as a business owner. Alson Martin\, Larthrop &amp\; Gage\, is the featured speaker. Martin is a recognized national authority in the fields of business law\, taxation\, healthcare\, and employee benefits.</span></span>\n\n<p><span style="font-size: 12px"><span style="font-family: arial"><font color="#000000">He has carefully followed the 2010 federal health care reform\, has counseled employers on its impact and various techniques to deal with it\, and is the author of an internet blog and book on this subject called &ldquo\;Healthcare Reform Facts\,&rdquo\; which discusses what employers and individuals need to know to know about this complex legislation to comply\, take advantage of planning opportunities\, and avoid penalties. </font></span></span><font size="3"><font color="#000000"><font face="Times New Roman"><o:p></o:p></font></font></font></p>\n<span style="font-size: 12px"><span style="font-family: arial">For more information\, and to register\, contact Marisa Gray\, mcgray<a href="mailto:jmatlack@kckcc.edu">@kckcc.edu</a> or 913-288-7284.</span></span>
LOCATION:Kansas City Kansas Community College Flint Building
UID:e.1213.135
SEQUENCE:3
DTSTAMP:20260424T053247Z
URL:https://business.kckchamber.com/events/details/business-solutions-series-affordable-care-act-05-13-2014-135
END:VEVENT

END:VCALENDAR
