BEGIN:VCALENDAR
VERSION:2.0
PRODID:-//ChamberMaster//Event Calendar 2.0//EN
METHOD:PUBLISH
X-PUBLISHED-TTL:P3D
REFRESH-INTERVAL:P3D
CALSCALE:GREGORIAN
BEGIN:VEVENT
DTSTART:20140311T130000Z
DTEND:20140311T143000Z
X-MICROSOFT-CDO-ALLDAYEVENT:FALSE
SUMMARY:Business Solutions Series -- Business Share
DESCRIPTION:Two local entrepreneurs present their startups to a community of mentors\, advisors and entrepreneurs. The businesses sharing will prepare a five-minute presentation and then engage in 20 minutes of feedback and discussion with the audience.\n\n\n\nFor more information\, and to register\, contact Marisa Gray\, mcgray@kckcc.edu or 913-288-7284.
X-ALT-DESC;FMTTYPE=text/html:Two local entrepreneurs present their startups to a community of mentors\, advisors and entrepreneurs. The businesses sharing will prepare a five-minute presentation and then engage in 20 minutes of feedback and discussion with the audience.<br />\n<br />\nFor more information\, and to register\, contact&nbsp\;Marisa Gray\, mcgray@kckcc.edu or 913-288-7284.
LOCATION:Kansas City Kansas Community College Flint Building
UID:e.1213.134
SEQUENCE:3
DTSTAMP:20260424T072431Z
URL:https://business.kckchamber.com/events/details/business-solutions-series-business-share-03-11-2014-134
END:VEVENT

END:VCALENDAR
