BEGIN:VCALENDAR
VERSION:2.0
PRODID:-//ChamberMaster//Event Calendar 2.0//EN
METHOD:PUBLISH
X-PUBLISHED-TTL:P3D
REFRESH-INTERVAL:P3D
CALSCALE:GREGORIAN
BEGIN:VEVENT
DTSTART:20150512T130000Z
DTEND:20150512T143000Z
X-MICROSOFT-CDO-ALLDAYEVENT:FALSE
SUMMARY:Business Solutions Series: Financing Your Business
DESCRIPTION:Business Solution Series Presents: Financing Your Small Business\n\nLearn about various funding options to help start or grow your business. Presented by the Kansas City Kansas Community College.
X-ALT-DESC;FMTTYPE=text/html:<p><span style="font-size: 13.63636302948px\; line-height: 20.3636360168457px\;">Business Solution Series Presents: Financing Your Small Business</span><br />\n<span style="font-family: Arial\, Verdana\, sans-serif\; font-size: 14px\; line-height: 20.7999992370605px\;">Learn about various funding options to help start or grow your&nbsp\;business. Presented by the Kansas City Kansas Community College.</span></p>\n
LOCATION:Dr. Burke Technical Education Center 6565 State Avenue Room Q101 Kansas City\, Kansas 66112
UID:e.1213.244
SEQUENCE:3
DTSTAMP:20260421T090730Z
URL:https://business.kckchamber.com/events/details/business-solutions-series-financing-your-business-05-12-2015-244
END:VEVENT

END:VCALENDAR
