BEGIN:VCALENDAR
VERSION:2.0
PRODID:-//ChamberMaster//Event Calendar 2.0//EN
METHOD:PUBLISH
X-PUBLISHED-TTL:P3D
REFRESH-INTERVAL:P3D
CALSCALE:GREGORIAN
BEGIN:VEVENT
DTSTART:20140211T140000Z
DTEND:20140211T153000Z
X-MICROSOFT-CDO-ALLDAYEVENT:FALSE
SUMMARY:Business Solutions Series: Financing Your Business -- Startup & Expansion
DESCRIPTION:Financing Your Business Startup & Expansion
X-ALT-DESC;FMTTYPE=text/html:<p>\n	<font size="3"><font size="3">Financing Your Business&mdash\;Startup &amp\; Expansion</font></font><br />\n	&nbsp\;</p>\n
LOCATION:Kansas City Kansas Community College 7250 State Ave. Flint Building Room 3619b Kansas City\, Kansas
UID:e.1213.143
SEQUENCE:3
DTSTAMP:20260424T084903Z
URL:https://business.kckchamber.com/events/details/business-solutions-series-financing-your-business-startup-expansion-02-11-2014-143
END:VEVENT

END:VCALENDAR
