BEGIN:VCALENDAR
VERSION:2.0
PRODID:-//ChamberMaster//Event Calendar 2.0//EN
METHOD:PUBLISH
X-PUBLISHED-TTL:P3D
REFRESH-INTERVAL:P3D
CALSCALE:GREGORIAN
BEGIN:VEVENT
DTSTART:20130325T230000Z
DTEND:20130326T010000Z
X-MICROSOFT-CDO-ALLDAYEVENT:FALSE
SUMMARY:Candidate Forum
DESCRIPTION:Candidate Forum\n\n	Sponsored by Baptist Ministers Union and Wyandotte County NAACP
X-ALT-DESC;FMTTYPE=text/html:<div style="color: gray">\n	<span style="font-size: 12pt"><span style="color: black"><span style="font-family: times new roman\, serif"><span style="font-family: times new roman">Candidate Forum<br />\n	Sponsored by Baptist Ministers Union and Wyandotte County NAACP</span></span></span></span></div>\n
LOCATION:St. Andrew's Baptist Church
UID:e.1213.75
SEQUENCE:3
DTSTAMP:20260425T020420Z
URL:https://business.kckchamber.com/events/details/candidate-forum-03-25-2013-75
END:VEVENT

END:VCALENDAR
