BEGIN:VCALENDAR
VERSION:2.0
PRODID:-//ChamberMaster//Event Calendar 2.0//EN
METHOD:PUBLISH
X-PUBLISHED-TTL:P3D
REFRESH-INTERVAL:P3D
CALSCALE:GREGORIAN
BEGIN:VEVENT
DTSTART:20130213T000000Z
DTEND:20130213T020000Z
X-MICROSOFT-CDO-ALLDAYEVENT:FALSE
SUMMARY:Candidate Forum 2013
DESCRIPTION:U.G. First District Commissioner\, BPU\, KCK School Board and KCK Community College candidates.
X-ALT-DESC;FMTTYPE=text/html:U.G. First District Commissioner\, BPU\, KCK School Board and KCK Community College candidates.
LOCATION:JFK Community Center 1262 N. 10th Street Kansas City\, Kansas
UID:e.1213.65
SEQUENCE:3
DTSTAMP:20260425T021521Z
URL:https://business.kckchamber.com/events/details/candidate-forum-2013-02-12-2013-65
END:VEVENT

END:VCALENDAR
