BEGIN:VCALENDAR
VERSION:2.0
PRODID:-//ChamberMaster//Event Calendar 2.0//EN
METHOD:PUBLISH
X-PUBLISHED-TTL:P3D
REFRESH-INTERVAL:P3D
CALSCALE:GREGORIAN
BEGIN:VEVENT
DTSTART:20130213T230000Z
DTEND:20130214T010000Z
X-MICROSOFT-CDO-ALLDAYEVENT:FALSE
SUMMARY:Candidate Forum 2013
DESCRIPTION:Candidates in all of the primaries will have three minutes each to give their platform. Questions and answers with the candidates will follow.
X-ALT-DESC;FMTTYPE=text/html:Candidates in all of the primaries will have three minutes each to give their platform. Questions and answers&nbsp\;with the candidates will follow.
LOCATION:Armourdale Recreation Center 730 Osage Kansas City\, Kansas
UID:e.1213.66
SEQUENCE:3
DTSTAMP:20260425T034202Z
URL:https://business.kckchamber.com/events/details/candidate-forum-2013-02-13-2013-66
END:VEVENT

END:VCALENDAR
