BEGIN:VCALENDAR
VERSION:2.0
PRODID:-//ChamberMaster//Event Calendar 2.0//EN
METHOD:PUBLISH
X-PUBLISHED-TTL:P3D
REFRESH-INTERVAL:P3D
CALSCALE:GREGORIAN
BEGIN:VEVENT
DTSTART:20150924T200000Z
DTEND:20150925T000000Z
X-MICROSOFT-CDO-ALLDAYEVENT:FALSE
SUMMARY:Carnival KCK
DESCRIPTION:Carnival KCK disrupts the traditional business expo format to deliver a new B2B exploration event. Infusing entertainment\, networking\, food\, drinks\, games\, and business to create a totally free experienced based environment unlike any other. Be entertained and explore the KCK renaissance\n\n\nFeatures:\n\n\n	\n	Open Bar (Beer\, Wine & Specialty Drinks)\n	\n	\n	Taste of KCK (Local Food Vendors)\n	\n	\n	Bandstand (8 Local Musicians)\n	\n	\n	40+ Businesses (Interactive Booths + Carnival Games + Arcade Games)\n	\n	\n	Entertainers (Aerial Artists + Stilt Walkers + more)\n	\n	And More!
X-ALT-DESC;FMTTYPE=text/html:<span id="docs-internal-guid-3848e77d-4734-90c6-4bcd-83caed0aac5b"><span style="font-size: 13.3333333333333px\; font-family: Arial\; color: rgb(0\, 0\, 0)\; vertical-align: baseline\; white-space: pre-wrap\; background-color: transparent\;">Carnival KCK disrupts the traditional business expo format to deliver a new B2B exploration event. Infusing entertainment\, networking\, food\, drinks\, games\, and business to create a totally free experienced based environment unlike any other. Be entertained and explore the KCK renaissance</span></span>\n<p dir="ltr" style="line-height:1.7999999999999998\;margin-top:0pt\;margin-bottom:0pt\;"><br />\n<span id="docs-internal-guid-3848e77d-4734-e99b-e3eb-8c04796910b9"><span style="font-size: 13.3333333333333px\; font-family: Arial\; color: rgb(0\, 0\, 0)\; font-weight: 700\; vertical-align: baseline\; white-space: pre-wrap\; background-color: transparent\;">Features:</span></span></p>\n\n<ul style="margin-top:0pt\;margin-bottom:0pt\;">\n	<li dir="ltr" style="list-style-type: disc\; font-size: 13.3333333333333px\; font-family: Arial\; vertical-align: baseline\; background-color: transparent\;">\n	<p dir="ltr" style="line-height:1.7999999999999998\;margin-top:0pt\;margin-bottom:0pt\;"><span id="docs-internal-guid-3848e77d-4734-e99b-e3eb-8c04796910b9"><span style="font-size: 13.3333333333333px\; color: rgb(0\, 0\, 0)\; vertical-align: baseline\; white-space: pre-wrap\; background-color: transparent\;">Open Bar (Beer\, Wine &amp\; Specialty Drinks)</span></span></p>\n	</li>\n	<li dir="ltr" style="list-style-type: disc\; font-size: 13.3333333333333px\; font-family: Arial\; vertical-align: baseline\; background-color: transparent\;">\n	<p dir="ltr" style="line-height:1.7999999999999998\;margin-top:0pt\;margin-bottom:0pt\;"><span id="docs-internal-guid-3848e77d-4734-e99b-e3eb-8c04796910b9"><span style="font-size: 13.3333333333333px\; color: rgb(0\, 0\, 0)\; vertical-align: baseline\; white-space: pre-wrap\; background-color: transparent\;">Taste of KCK (Local Food Vendors)</span></span></p>\n	</li>\n	<li dir="ltr" style="list-style-type: disc\; font-size: 13.3333333333333px\; font-family: Arial\; vertical-align: baseline\; background-color: transparent\;">\n	<p dir="ltr" style="line-height:1.7999999999999998\;margin-top:0pt\;margin-bottom:0pt\;"><span id="docs-internal-guid-3848e77d-4734-e99b-e3eb-8c04796910b9"><span style="font-size: 13.3333333333333px\; color: rgb(0\, 0\, 0)\; vertical-align: baseline\; white-space: pre-wrap\; background-color: transparent\;">Bandstand (8 Local Musicians)</span></span></p>\n	</li>\n	<li dir="ltr" style="list-style-type: disc\; font-size: 13.3333333333333px\; font-family: Arial\; vertical-align: baseline\; background-color: transparent\;">\n	<p dir="ltr" style="line-height:1.7999999999999998\;margin-top:0pt\;margin-bottom:0pt\;"><span id="docs-internal-guid-3848e77d-4734-e99b-e3eb-8c04796910b9"><span style="font-size: 13.3333333333333px\; color: rgb(0\, 0\, 0)\; vertical-align: baseline\; white-space: pre-wrap\; background-color: transparent\;">40+ Businesses (Interactive Booths + Carnival Games + Arcade Games)</span></span></p>\n	</li>\n	<li dir="ltr" style="list-style-type: disc\; font-size: 13.3333333333333px\; font-family: Arial\; vertical-align: baseline\; background-color: transparent\;">\n	<p dir="ltr" style="line-height:1.7999999999999998\;margin-top:0pt\;margin-bottom:0pt\;"><span id="docs-internal-guid-3848e77d-4734-e99b-e3eb-8c04796910b9"><span style="font-size: 13.3333333333333px\; color: rgb(0\, 0\, 0)\; vertical-align: baseline\; white-space: pre-wrap\; background-color: transparent\;">Entertainers (Aerial Artists + Stilt Walkers + more)</span></span></p>\n	</li>\n	<li dir="ltr" style="list-style-type: disc\; font-size: 12.6666666666667px\; font-family: Arial\; vertical-align: baseline\; background-color: transparent\;"><span id="docs-internal-guid-3848e77d-4734-e99b-e3eb-8c04796910b9"><span style="font-size: 13.3333333333333px\; color: rgb(0\, 0\, 0)\; vertical-align: baseline\; white-space: pre-wrap\; background-color: transparent\;">And More!</span></span></li>\n</ul>\n<br />\n<br />\n<br />\n&nbsp\;
LOCATION:Memorial Hall 600 N 7th Street Trafficway Kansas City\, KS 66101
UID:e.1213.262
SEQUENCE:3
DTSTAMP:20260421T035411Z
URL:https://business.kckchamber.com/events/details/carnival-kck-09-24-2015-262
END:VEVENT

END:VCALENDAR
