BEGIN:VCALENDAR
VERSION:2.0
PRODID:-//ChamberMaster//Event Calendar 2.0//EN
METHOD:PUBLISH
X-PUBLISHED-TTL:P3D
REFRESH-INTERVAL:P3D
CALSCALE:GREGORIAN
BEGIN:VEVENT
DTSTART:20140214T150000Z
DTEND:20140214T163000Z
X-MICROSOFT-CDO-ALLDAYEVENT:FALSE
SUMMARY:Chamber Legislative Committee Meeting
DESCRIPTION:Stay updated on specific legislation being tracked by the KCK Chamber as part of its Legislative Agenda and join in the discussion about legislative topics of interest. All are welcome.
X-ALT-DESC;FMTTYPE=text/html:<span style="font-family: calibri\, sans-serif"><span style="font-size: medium"><span style="font-family: calibri">Stay updated on specific legislation being tracked by the KCK Chamber as part of its Legislative Agenda and join in the discussion about legislative topics of interest.&nbsp\;All are welcome.</span></span></span>
LOCATION:KCK Chamber 727 Minnesota Kansas City\, Kansas
UID:e.1213.147
SEQUENCE:3
DTSTAMP:20260424T085635Z
URL:https://business.kckchamber.com/events/details/chamber-legislative-committee-meeting-02-14-2014-147
END:VEVENT

END:VCALENDAR
