BEGIN:VCALENDAR
VERSION:2.0
PRODID:-//ChamberMaster//Event Calendar 2.0//EN
METHOD:PUBLISH
X-PUBLISHED-TTL:P3D
REFRESH-INTERVAL:P3D
CALSCALE:GREGORIAN
BEGIN:VEVENT
DTSTART:20140323T003000Z
DTEND:20140323T020000Z
X-MICROSOFT-CDO-ALLDAYEVENT:FALSE
SUMMARY:Chamber of Commerce Night with Sporting Kansas City
DESCRIPTION:Chamber of Commerce Night\n\n\n\nSporting Kansas City VS San Jose\n\n\n\n\n\nChambers that bring out more than 20 people will get the opportunity to take a post-match photo on the field in front of the Championship wall.\n\n\n\nTickets are $19 each (South Stand). You can purchase multiple tickets and family can attend. Tickets must be purchased and paid for in advance. No sales the night of the game. Payments will not be taken the night of the game.\n\n\n\nDeadline for ticket purchase is Feb. 21.
X-ALT-DESC;FMTTYPE=text/html:<span style="font-size: 14px"><strong>Chamber of Commerce Night<br />\n<br />\nSporting Kansas City VS San Jose</strong><br />\n<br />\n<br />\n<span style="font-size: 12px">Chambers that bring out more than 20 people will get the opportunity to take a post-match photo on the field in front of the Championship wall.<br />\n<br />\nTickets are $19 each (South Stand). You can purchase multiple tickets and family can attend. Tickets <em><strong>must </strong></em>be purchased&nbsp\;and paid for in advance. No sales the night of the game. <em><strong>Payments will not be taken the night of the game.</strong></em><br />\n<br />\nDeadline for ticket purchase is Feb. 21.</span></span><br />\n
LOCATION:One Sporting Way Kansas City\, Kansas
UID:e.1213.145
SEQUENCE:3
DTSTAMP:20260424T071717Z
URL:https://business.kckchamber.com/events/details/chamber-of-commerce-night-with-sporting-kansas-city-03-22-2014-145
END:VEVENT

END:VCALENDAR
