BEGIN:VCALENDAR
VERSION:2.0
PRODID:-//ChamberMaster//Event Calendar 2.0//EN
METHOD:PUBLISH
X-PUBLISHED-TTL:P3D
REFRESH-INTERVAL:P3D
CALSCALE:GREGORIAN
BEGIN:VEVENT
DTSTART:20131024T000000Z
DTEND:20131024T030000Z
X-MICROSOFT-CDO-ALLDAYEVENT:FALSE
SUMMARY:Chamber of Commerce Night with Sporting Kansas City
DESCRIPTION:You are invited to Chamber of Commerce Night with Sporting Kansas City.\n\n\n\n$40 Chamber of Commerce Package includes pre-match professional mixer (in the Budweiser Beer Garden\, located on the Sprint Plaza) with all-inclusive food and beverage and a South Stand ticket ($55 value).\n\n\n\n\n	 \nTickets can be purchased here: http://ow.ly/p1XLR http://ow.ly/i/3caDq\n\n\n	The promo code is: chambertix
X-ALT-DESC;FMTTYPE=text/html:You are invited to Chamber of Commerce Night with Sporting Kansas City.<br />\n<br />\n$40 Chamber of Commerce Package includes pre-match professional mixer (in the Budweiser Beer Garden\, located on the Sprint Plaza) with all-inclusive food and beverage and a South Stand ticket ($55 value).<br />\n<br />\n<div id="cke_pastebin" style="position: absolute\; width: 1px\; height: 1px\; overflow: hidden\; top: 8px\; left: -1000px">\n	&nbsp\;</div>\nTickets can be purchased here: <a href="http://ow.ly/p1XLR">http://ow.ly/p1XLR</a> <a href="http://ow.ly/i/3caDq">http://ow.ly/i/3caDq</a><br />\n<p class="MsoNormal" style="margin: 0in 0in 0pt">\n	<span style="font-family: 'Arial'\, 'sans-serif'\; font-size: 10pt"><font color="#000000"><font face="Arial">The promo code is: chambertix <o:p></o:p></font></font></span></p>\n<br />\n<br />\n<br />\n<br />\n
LOCATION:Sporting Park One Sporting Way Kansas City\, Kansas
UID:e.1213.106
SEQUENCE:3
DTSTAMP:20260424T154145Z
URL:https://business.kckchamber.com/events/details/chamber-of-commerce-night-with-sporting-kansas-city-10-23-2013-106
END:VEVENT

END:VCALENDAR
