BEGIN:VCALENDAR
VERSION:2.0
PRODID:-//ChamberMaster//Event Calendar 2.0//EN
METHOD:PUBLISH
X-PUBLISHED-TTL:P3D
REFRESH-INTERVAL:P3D
CALSCALE:GREGORIAN
BEGIN:VEVENT
DTSTART;VALUE=DATE:20151126
DTEND;VALUE=DATE:20151128
TRANSP:TRANSPARENT
X-MICROSOFT-CDO-ALLDAYEVENT:TRUE
SUMMARY:Chamber Offices Closed November 26-27\, 2015
DESCRIPTION:The KCK Chamber Offices will be closed for the Thanksgiving Holiday Thursday November 26th and Friday November 27th.  We will return Monday\, November 30th to provide our members with our support and services. We wish everyone a wonderful Thanksgiving.
X-ALT-DESC;FMTTYPE=text/html:The KCK Chamber Offices will be closed for the Thanksgiving Holiday Thursday November 26th and Friday November 27th. &nbsp\;We will return Monday\, November 30th to provide our members with our support and services. We wish everyone a wonderful Thanksgiving.
LOCATION:
UID:e.1213.282
SEQUENCE:3
DTSTAMP:20260420T231912Z
URL:https://business.kckchamber.com/events/details/chamber-offices-closed-november-26-27-2015-11-26-2015-282
END:VEVENT

END:VCALENDAR
