BEGIN:VCALENDAR
VERSION:2.0
PRODID:-//ChamberMaster//Event Calendar 2.0//EN
METHOD:PUBLISH
X-PUBLISHED-TTL:P3D
REFRESH-INTERVAL:P3D
CALSCALE:GREGORIAN
BEGIN:VEVENT
DTSTART:20130504T143000Z
DTEND:20130504T160000Z
X-MICROSOFT-CDO-ALLDAYEVENT:FALSE
SUMMARY:Coffee and Conversatins
DESCRIPTION:After a fast paced session\, the Kansas Legislature is now on break before going back to Topeka on May 8. Join members of the Wyandotte County delegation on Saturday\, May 4 from 9:30 a.m. to 11:00 a.m. at West Branch Library\, 1737 N. 82nd Street\, KCK for their take on the session and what remains to be done in the veto session for the 2013 Kansas legislative session. No reservations are required and this is FREE and open to the public.
X-ALT-DESC;FMTTYPE=text/html:<span style="font-size: 12pt"><span style="font-family: times new roman\, serif"><span style="font-family: times new roman">After a fast paced session\, the Kansas Legislature is now on break before going back to Topeka on May 8. Join members of the Wyandotte County delegation on Saturday\, May 4 from 9:30 a.m. to 11:00 a.m. at West Branch Library\, 1737 N. 82<sup>nd</sup> Street\, KCK for their take on the session and what remains to be done in the veto session for the 2013 Kansas legislative session. No reservations are required and this is FREE and open to the public.</span></span></span><br />\n
LOCATION:West Branch Libary 1737 N. 82nd Street Kansas City\, Kansas
UID:e.1213.78
SEQUENCE:3
DTSTAMP:20260424T212016Z
URL:https://business.kckchamber.com/events/details/coffee-and-conversatins-05-04-2013-78
END:VEVENT

END:VCALENDAR
