BEGIN:VCALENDAR
VERSION:2.0
PRODID:-//ChamberMaster//Event Calendar 2.0//EN
METHOD:PUBLISH
X-PUBLISHED-TTL:P3D
REFRESH-INTERVAL:P3D
CALSCALE:GREGORIAN
BEGIN:VEVENT
DTSTART:20140208T150000Z
DTEND:20140208T163000Z
X-MICROSOFT-CDO-ALLDAYEVENT:FALSE
SUMMARY:Coffee and Conversation
DESCRIPTION:Coffee and Conversation will be from 9:00 a.m.   10: 30 a.m.\, Feb. 8 at the Bonner Springs Library\, 201 N. Nettleton Ave.\, Bonner Springs\, Kan.\, 66012.\n\n	\n\n	Join members of the Wyandotte County delegation to get their take on the session thus far\, and the issues that will addressed. Bring your questions for them as well. Reservations are not required. The program is free and open to the public.
X-ALT-DESC;FMTTYPE=text/html:<div style="color: gray">\n	<span style="font-size: 12px"><span style="font-family: arial"><span style="color: black">Coffee and Conversation will be from 9:00 a.m. &ndash\; 10: 30 a.m.\, Feb. 8 at the Bonner Springs Library\, 201 N. Nettleton Ave.\, Bonner Springs\, Kan.\, 66012.<br />\n	<br />\n	Join members of the Wyandotte County delegation&nbsp\;to get their take on the session thus far\, and the issues that will addressed.&nbsp\;Bring your questions for them as well.&nbsp\;Reservations are not required.&nbsp\;The program is free and open to the public.</span></span></span><br />\n	&nbsp\;</div>\n
LOCATION:Bonner Springs Library 201 N. Nettleton Ave. Bonner Springs\, Kan. 66012
UID:e.1213.142
SEQUENCE:3
DTSTAMP:20260424T085326Z
URL:https://business.kckchamber.com/events/details/coffee-and-conversation-02-08-2014-142
END:VEVENT

END:VCALENDAR
