BEGIN:VCALENDAR
VERSION:2.0
PRODID:-//ChamberMaster//Event Calendar 2.0//EN
METHOD:PUBLISH
X-PUBLISHED-TTL:P3D
REFRESH-INTERVAL:P3D
CALSCALE:GREGORIAN
BEGIN:VEVENT
DTSTART:20120310T150000Z
DTEND:20120310T163000Z
X-MICROSOFT-CDO-ALLDAYEVENT:FALSE
SUMMARY:Coffee and Conversation
DESCRIPTION:This is your opportunity to hear from and talk with our legislators respresenting us in topeka this session.  This event is FREE and open to the public.  Please join us.\n\n\n\nSheduled to appear:\n\n\n\nSenator Kelly Kutala\n\nRep. Owen Donohoe\n\nRep. Kathy Wolfe Moore\n\nRep. Valdenia Winn
X-ALT-DESC;FMTTYPE=text/html:This is your opportunity to hear from and talk with our legislators respresenting us in topeka this session.&nbsp\; This event is <span style="color: #000000"><strong>FREE </strong></span>and open to the public.&nbsp\; Please join us.<br />\n<br />\nSheduled to appear:<br />\n<br />\nSenator Kelly Kutala<br />\nRep. Owen Donohoe<br />\nRep. Kathy Wolfe Moore<br />\nRep. Valdenia Winn
LOCATION:Bonner Springs City Library 201 N. Nettleton Bonner Springs\, KS
UID:e.1213.32
SEQUENCE:3
DTSTAMP:20260425T200023Z
URL:https://business.kckchamber.com/events/details/coffee-and-conversation-03-10-2012-32
END:VEVENT

END:VCALENDAR
