BEGIN:VCALENDAR
VERSION:2.0
PRODID:-//ChamberMaster//Event Calendar 2.0//EN
METHOD:PUBLISH
X-PUBLISHED-TTL:P3D
REFRESH-INTERVAL:P3D
CALSCALE:GREGORIAN
BEGIN:VEVENT
DTSTART:20120324T140000Z
DTEND:20120324T153000Z
X-MICROSOFT-CDO-ALLDAYEVENT:FALSE
SUMMARY:Coffee and Conversation
DESCRIPTION:This is your opportunity to hear from and talk with our legislators respresenting us in Topeka this session.  This event is FREE and open to the public.  Please join us.\n\n\n\nSheduled to appear:\n\n\n\nSenator David Haley\n\nRep. Tom Burroughs\n\nRep. Kathy Wolfe Moore\n\nRep. Stan Frownfelter\n\nRep. Valdenia winn
X-ALT-DESC;FMTTYPE=text/html:This is your opportunity to hear from and talk with our legislators respresenting us in Topeka this session.&nbsp\; This event is <span style="color: #000000"><strong>FREE </strong></span>and open to the public.&nbsp\; Please join us.<br />\n<br />\nSheduled to appear:<br />\n<br />\nSenator David Haley<br />\nRep. Tom Burroughs<br />\nRep. Kathy Wolfe Moore<br />\nRep. Stan Frownfelter<br />\nRep. Valdenia winn
LOCATION:KCK Community College Auto Tech Center 6736 State Avenue Kansas City\, KS 66102
UID:e.1213.33
SEQUENCE:3
DTSTAMP:20260425T200023Z
URL:https://business.kckchamber.com/events/details/coffee-and-conversation-03-24-2012-33
END:VEVENT

END:VCALENDAR
