BEGIN:VCALENDAR
VERSION:2.0
PRODID:-//ChamberMaster//Event Calendar 2.0//EN
METHOD:PUBLISH
X-PUBLISHED-TTL:P3D
REFRESH-INTERVAL:P3D
CALSCALE:GREGORIAN
BEGIN:VEVENT
DTSTART:20120407T140000Z
DTEND:20120407T153000Z
X-MICROSOFT-CDO-ALLDAYEVENT:FALSE
SUMMARY:Coffee and Conversation
DESCRIPTION:This is your opportunity to hear from and talk with our legislators respresenting us in Topeka this session.  This event is FREE and open to the public.  Please join us.\n\n\n\nSheduled to appear:\n\n\n\nSenator Chris Steineger\n\nRep. Valdenia winn
X-ALT-DESC;FMTTYPE=text/html:This is your opportunity to hear from and talk with our legislators respresenting us in Topeka this session.&nbsp\; This event is <span style="color: #000000"><strong>FREE </strong></span>and open to the public.&nbsp\; Please join us.<br />\n<br />\nSheduled to appear:<br />\n<br />\nSenator Chris Steineger<br />\nRep. Valdenia winn
LOCATION:KCK Public Library 625 Minnesota Avenue 2nd floor auditorium Kansas City\, KS 66101
UID:e.1213.34
SEQUENCE:3
DTSTAMP:20260425T182848Z
URL:https://business.kckchamber.com/events/details/coffee-and-conversation-04-07-2012-34
END:VEVENT

END:VCALENDAR
