BEGIN:VCALENDAR
VERSION:2.0
PRODID:-//ChamberMaster//Event Calendar 2.0//EN
METHOD:PUBLISH
X-PUBLISHED-TTL:P3D
REFRESH-INTERVAL:P3D
CALSCALE:GREGORIAN
BEGIN:VEVENT
DTSTART:20130320T230000Z
DTEND:20130321T020000Z
X-MICROSOFT-CDO-ALLDAYEVENT:FALSE
SUMMARY:Community Candidate Forum
DESCRIPTION:Community Candidate Forum\n\nCandidates listed on the ballot for the following contested races will be invited on this day.\n\n\n\nCommissioner\, District 1\n\nCommissioner\, District 5\n\nCommissioner at Large\, District 2\n\nMayor/CEO\n\nCommissioner\, District 7\n\nCommissioner\, District 8
X-ALT-DESC;FMTTYPE=text/html:Community Candidate Forum<br />\nCandidates listed on the ballot for the following contested races will be invited on this day.<br />\n<br />\nCommissioner\, District 1<br />\nCommissioner\, District 5<br />\nCommissioner at Large\, District 2<br />\nMayor/CEO<br />\nCommissioner\, District 7<br />\nCommissioner\, District 8
LOCATION:Kansas City Kansas Community College Performing Arts Center 7250 State Avenue Kansas City\, Kan.
UID:e.1213.71
SEQUENCE:3
DTSTAMP:20260425T020522Z
URL:https://business.kckchamber.com/events/details/community-candidate-forum-03-20-2013-71
END:VEVENT

END:VCALENDAR
