BEGIN:VCALENDAR
VERSION:2.0
PRODID:-//ChamberMaster//Event Calendar 2.0//EN
METHOD:PUBLISH
X-PUBLISHED-TTL:P3D
REFRESH-INTERVAL:P3D
CALSCALE:GREGORIAN
BEGIN:VEVENT
DTSTART:20130321T230000Z
DTEND:20130322T020000Z
X-MICROSOFT-CDO-ALLDAYEVENT:FALSE
SUMMARY:Community Candidate Forum
DESCRIPTION:Community Candidate Forum\n\n\n\nCandidates listed on the ballot for the following contested races will be invited on this day:\n\n\n\nBPU\, District 2\n\nBPU at Large\, District 2\n\nKCK Public Schools Board\n\nKCK Community College Trustees
X-ALT-DESC;FMTTYPE=text/html:Community Candidate Forum<br />\n<br />\nCandidates listed on the ballot for the following contested races will be invited on this day:<br />\n<br />\nBPU\, District 2<br />\nBPU at Large\, District 2<br />\nKCK Public Schools Board<br />\nKCK Community College Trustees
LOCATION:Kansas City Kansas Community College Performing Arts Center 7250 State Avenue Kansas City\, Kan.
UID:e.1213.72
SEQUENCE:3
DTSTAMP:20260425T002731Z
URL:https://business.kckchamber.com/events/details/community-candidate-forum-03-21-2013-72
END:VEVENT

END:VCALENDAR
