BEGIN:VCALENDAR
VERSION:2.0
PRODID:-//ChamberMaster//Event Calendar 2.0//EN
METHOD:PUBLISH
X-PUBLISHED-TTL:P3D
REFRESH-INTERVAL:P3D
CALSCALE:GREGORIAN
BEGIN:VEVENT
DTSTART:20140815T163000Z
DTEND:20140815T180000Z
X-MICROSOFT-CDO-ALLDAYEVENT:FALSE
SUMMARY:Congressional Forum August 2014
DESCRIPTION:Featured Presentation:\n\nCongressman Kevin Yoder\, who represents the 3rd Congressional District\, will be at Congressional Forum to update us on national policies and issues affecting Kansas and the nation. \n\n\n\nCongressional Forum is sponsored and administered by the KCK Chamber of Commerce. It is a separate event from other Chamber programs and has an additional fee for membership. For information about Congressional Forum\, please contact Greg Kindle or visit Congressional Forum on the KCK Chamber website.\n\n\n\nPlease indicate your meal option when registering:\n\nSteak\n\nBaked Salmon\n\nGarden Salad\n\nSpecial: Chicken Wrap
X-ALT-DESC;FMTTYPE=text/html:<span style="font-size:14px\;"><span style="font-family:tahoma\;"><strong><span style="color:#E46C0A\;">Featured Presentation:</span></strong></span><br />\n<span style="color:#000000\;">Congressman Kevin Yoder\, who represents the 3<sup>rd</sup> Congressional District\, will be at Congressional Forum to update us on national policies and issues affecting Kansas and the nation.&nbsp\;</span><br />\n<br />\nCongressional Forum is sponsored and administered by the&nbsp\;KCK Chamber of Commerce. It is a separate event&nbsp\;from other Chamber programs and has an additional fee&nbsp\;for membership. For information about Congressional Forum\, please contact Greg Kindle or visit <a href="http://www.kckchamber.com/workingtogether/wp-content/uploads/2014/04/Congressional-Forum-Info-Sheet-April-8-2014.pdf">Congressional Forum </a>on the KCK Chamber website.</span><br />\n<br />\nPlease indicate your meal option when registering:<br />\nSteak<br />\nBaked Salmon<br />\nGarden Salad<br />\nSpecial: Chicken Wrap
LOCATION:Reardon Convention Center
UID:e.1213.164
SEQUENCE:3
DTSTAMP:20260423T231910Z
URL:https://business.kckchamber.com/events/details/congressional-forum-august-2014-08-15-2014-164
END:VEVENT

END:VCALENDAR
