BEGIN:VCALENDAR
VERSION:2.0
PRODID:-//ChamberMaster//Event Calendar 2.0//EN
METHOD:PUBLISH
X-PUBLISHED-TTL:P3D
REFRESH-INTERVAL:P3D
CALSCALE:GREGORIAN
BEGIN:VEVENT
DTSTART:20150821T163000Z
DTEND:20150821T181500Z
X-MICROSOFT-CDO-ALLDAYEVENT:FALSE
SUMMARY:Congressional Forum - August 2015
DESCRIPTION:Featured Presentation:\n\nDouglas (Doug) G. Bach    County Administrator for the Unified Government of Wyandotte County/Kansas City\, KS\n\n \n\nMr. Bach is a graduate of Fort Hays State University and holds a Masters of Public Administration from Kansas State University.  He has worked for the Unified Government of Wyandotte County/Kansas City\, KS since it organized as a consolidated government in 1997.  Prior to this he worked for the former City of Kansas City\, Kansas for seven years. \n\n \n\nDoug was a member of the pre-consolidation task force who developed the merger plan for City and County operations.  In 1999\, he was assigned as the Special Projects Manager to oversee negotiations and future development for Village West (which is the tourism & entertainment district around the Kansas Speedway).  In 2002\, Doug was appointed as an Assistant County Administrator for the Unified Government. He was hired into his current position as the Deputy Administrator in February of 2003 where he oversees the day-to-day operations of the Unified Government and continues to actively work on new development opportunities for the community.\n\n \n\nIn March\, 2014 Doug was selected as County Administrator of the Unified Government of Wyandotte County/Kansas City\, Kansas.\n\n\n\n Luncheon Choices:\n\nSteak\, Fish\, or Chef Salad\n\n\n\nCongressional Forum celebrates it's 47 th year in service to the business community in Kansas City\, KS. We are proud to be one of the few chambers with this program and the longest running Congressional Forum in United States
X-ALT-DESC;FMTTYPE=text/html:<span style="font-size:14px\;"><strong><span style="font-family:arial\,sans-serif\;">Featured Presentation:</span></strong></span><br />\n<strong>Douglas (Doug) G. Bach &ndash\; &nbsp\;County Administrator for the Unified Government of Wyandotte County/Kansas City\, KS</strong><br />\n&nbsp\;<br />\nMr. Bach is a graduate of Fort Hays State University and holds a Masters of Public Administration from Kansas State University.&nbsp\; He has worked for the Unified Government of Wyandotte County/Kansas City\, KS since it organized as a consolidated government in 1997.&nbsp\; Prior to this he worked for the former City of Kansas City\, Kansas for seven years.&nbsp\;<br />\n&nbsp\;<br />\nDoug was a member of the pre-consolidation task force who developed the merger plan for City and County operations.&nbsp\; In 1999\, he was assigned as the Special Projects Manager to oversee negotiations and future development for Village West (which is the tourism &amp\; entertainment district around the Kansas Speedway).&nbsp\; In 2002\, Doug was appointed as an Assistant County Administrator for the Unified Government. He was hired into his current position as the Deputy Administrator in February of 2003 where he oversees the day-to-day operations of the Unified Government and continues to actively work on new development opportunities for the community.<br />\n&nbsp\;<br />\nIn March\, 2014 Doug was selected as County Administrator of the Unified Government of Wyandotte County/Kansas City\, Kansas.<br />\n<br />\n<span style="font-size:14px\;">&nbsp\;<strong><span style="font-family:arial\,sans-serif\;">Luncheon Choices:</span></strong><br />\n<span style="font-family:arial\,sans-serif\;">Steak\, Fish\, or Chef Salad</span></span><br />\n<br />\n<span style="font-family: arial\, sans-serif\; font-size: 13.63636302948px\; line-height: 20.3636360168457px\;">Congressional Forum celebrates it&#39\;s 47&nbsp\;th&nbsp\;year in service to the business community in Kansas City\, KS. We are proud to be one of the few chambers with this program and the longest running Congressional Forum in United States&nbsp\;</span><br />\n&nbsp\;
LOCATION:Reardon Convention Center 520 Minnesota Avenue Kansas City\, KS 66101
UID:e.1213.266
SEQUENCE:3
DTSTAMP:20260421T035530Z
URL:https://business.kckchamber.com/events/details/congressional-forum-august-2015-08-21-2015-266
END:VEVENT

END:VCALENDAR
