BEGIN:VCALENDAR
VERSION:2.0
PRODID:-//ChamberMaster//Event Calendar 2.0//EN
METHOD:PUBLISH
X-PUBLISHED-TTL:P3D
REFRESH-INTERVAL:P3D
CALSCALE:GREGORIAN
BEGIN:VEVENT
DTSTART:20150220T173000Z
DTEND:20150220T191500Z
X-MICROSOFT-CDO-ALLDAYEVENT:FALSE
SUMMARY:Congressional Forum February 2015
DESCRIPTION:Congressional Forum is sponsored and administered by the KCK Chamber of Commerce. It is a separate event from other Chamber programs and has an additional fee for membership. For information about Congressional Forum\, please contact Greg Kindle or visit Congressional Forum on the KCK Chamber website.
X-ALT-DESC;FMTTYPE=text/html:Congressional Forum is sponsored and administered by the KCK Chamber of Commerce. It is a separate event&nbsp\;from other Chamber programs and has an additional fee&nbsp\;for membership. For information about Congressional Forum\, please contact Greg Kindle or visit <a href="http://www.kckchamber.com/workingtogether/wp-content/uploads/2014/04/Congressional-Forum-Info-Sheet-April-8-2014.pdf">Congressional Forum </a>on the KCK Chamber website.<br />\n<br />\n&nbsp\;
LOCATION:PLEASE NOTE THAT CONGRESSIONAL FORUM WILL NOT BE IN THE REARDON CONFERENCE CENTER THIS MONTH. Hilton Garden Inn Hotel Eisenhower Room Enter the front doors of the hotel\, and go to the left.
UID:e.1213.224
SEQUENCE:3
DTSTAMP:20260423T134944Z
URL:https://business.kckchamber.com/events/details/congressional-forum-february-2015-02-20-2015-224
END:VEVENT

END:VCALENDAR
