BEGIN:VCALENDAR
VERSION:2.0
PRODID:-//ChamberMaster//Event Calendar 2.0//EN
METHOD:PUBLISH
X-PUBLISHED-TTL:P3D
REFRESH-INTERVAL:P3D
CALSCALE:GREGORIAN
BEGIN:VEVENT
DTSTART:20140718T163000Z
DTEND:20140718T180000Z
X-MICROSOFT-CDO-ALLDAYEVENT:FALSE
SUMMARY:Congressional Forum July 2014
DESCRIPTION:Congressional Forum is sponsored and administered by the KCK Chamber of Commerce. It is a separate event from other Chamber programs and has an additional fee for membership. For information about Congressional Forum\, please contact Greg Kindle or visit Congressional Forum on the KCK Chamber website.\n\n\n\nLunch menu options are:\n\nSteak\n\nBaked Salmon\n\nChef Salad\n\nBBQ Brisket\, Au Gratin Potatoes and Green Beans\n\n\n\nPlease indicate your menu option when registering.
X-ALT-DESC;FMTTYPE=text/html:Congressional Forum is sponsored and administered by the KCK Chamber of Commerce. It is a separate event&nbsp\;from other Chamber programs and has an additional fee&nbsp\;for membership. For information about Congressional Forum\, please contact Greg Kindle or visit <a href="http://www.kckchamber.com/workingtogether/wp-content/uploads/2014/04/Congressional-Forum-Info-Sheet-April-8-2014.pdf">Congressional Forum </a>on the KCK Chamber website.<br />\n<br />\nLunch menu options are:<br />\nSteak<br />\nBaked Salmon<br />\nChef Salad<br />\nBBQ Brisket\, Au Gratin Potatoes and Green Beans<br />\n<br />\nPlease indicate your menu option when registering.
LOCATION:Reardon Convention Center
UID:e.1213.163
SEQUENCE:3
DTSTAMP:20260424T021119Z
URL:https://business.kckchamber.com/events/details/congressional-forum-july-2014-07-18-2014-163
END:VEVENT

END:VCALENDAR
