BEGIN:VCALENDAR
VERSION:2.0
PRODID:-//ChamberMaster//Event Calendar 2.0//EN
METHOD:PUBLISH
X-PUBLISHED-TTL:P3D
REFRESH-INTERVAL:P3D
CALSCALE:GREGORIAN
BEGIN:VEVENT
DTSTART:20150717T163000Z
DTEND:20150717T181500Z
X-MICROSOFT-CDO-ALLDAYEVENT:FALSE
SUMMARY:Congressional Forum - July 2015
DESCRIPTION:Congressional Forum celebrates it's 47 th year in service to the business community in Kansas City\, KS. We are proud to be one of the few chambers with this program and the longest running Congressional Forum in United States \n\n \n\nFeatured Presentation:\n\nCongressman Kevin Yoder who represents the 3rd Congressional District will be here to update us on policies and issues affecting Kansas and the nation.\n\n \n\nLuncheon Choices:\n\nSteak\, Fish\, or Chef Salad
X-ALT-DESC;FMTTYPE=text/html:<span style="font-size:14px\;"><span style="font-family:arial\,sans-serif\;">Congressional Forum celebrates it&#39\;s 47&nbsp\;th&nbsp\;year in service to the business community in Kansas City\, KS. We are proud to be one of the few chambers with this program and the longest running Congressional Forum in United States </span><br />\n&nbsp\;<br />\n<span style="font-size:16px\;"><strong><span style="font-family:arial\,sans-serif\;">Featured Presentation:</span></strong></span></span><br />\n<span style="font-size:14px\;"><span style="font-family: Helvetica\; line-height: 22.5px\;">Congressman Kevin Yoder who represents the&nbsp\;</span><span style="font-family: Helvetica\; line-height: 22.5px\;">3rd Congressional District will be here to update us on policies and issues affecting Kansas and the nation.</span><br />\n&nbsp\;<br />\n<span style="font-size:16px\;"><strong><span style="font-family:arial\,sans-serif\;">Luncheon Choices:</span></strong></span></span><br />\n<span style="font-family:arial\,sans-serif\;">Steak\, Fish\, or Chef Salad</span><br />\n<br />\n&nbsp\;
LOCATION:Reardon Convention Center 520 Minnesota Avenue Kansas City\, KS 66101
UID:e.1213.263
SEQUENCE:3
DTSTAMP:20260421T054542Z
URL:https://business.kckchamber.com/events/details/congressional-forum-july-2015-07-17-2015-263
END:VEVENT

END:VCALENDAR
