BEGIN:VCALENDAR
VERSION:2.0
PRODID:-//ChamberMaster//Event Calendar 2.0//EN
METHOD:PUBLISH
X-PUBLISHED-TTL:P3D
REFRESH-INTERVAL:P3D
CALSCALE:GREGORIAN
BEGIN:VEVENT
DTSTART:20150619T163000Z
DTEND:20150619T181500Z
X-MICROSOFT-CDO-ALLDAYEVENT:FALSE
SUMMARY:Congressional Forum June 2015
DESCRIPTION:Congressional Forum celebrates it's 47 th year in service to the business community in Kansas City\, KS. We are proud to be one of the few chambers with this program and the longest running Congressional Forum in United States \n\n \n\nFeatured Presentation:\n\nColonel Geoffrey Catlett\, Director of the Sexual Harassment and Assault Response Program (SHARP) Academy.  SHARP Academy is responsible for training all Victim Assistants (VAs) and Sexual Assault Response Coordinators (SARCs) for the Army.  He and his organization have engaged with various universities and colleges to assist them with their issues related to this problem as well as working with military units.  It is an issue that can be extremely disruptive for commercial businesses too.  COL Catlett will share interesting stories and statistics\, as well as how the Army is responding to the problem.  It is a battle to change behavior.  \n\n \n\nLuncheon Choices:\n\nSteak\, Fish\, or Chef Salad
X-ALT-DESC;FMTTYPE=text/html:<span style="font-size:14px\;"><span style="font-family:arial\,sans-serif\;">Congressional Forum celebrates it&#39\;s 47&nbsp\;th&nbsp\;year in service to the business community in Kansas City\, KS. We are proud to be one of the few chambers with this program and the longest running Congressional Forum in United States </span><br />\n&nbsp\;<br />\n<strong><span style="font-family:arial\,sans-serif\;">Featured Presentation:</span></strong><br />\n<span style="font-family:arial\,sans-serif\;">Colonel Geoffrey Catlett\, Director of the Sexual Harassment and Assault Response Program (SHARP) Academy.&nbsp\; SHARP Academy is responsible for training all Victim Assistants (VAs) and Sexual Assault Response Coordinators (SARCs) for the Army.&nbsp\; He and his organization have engaged with various universities and colleges to assist them with their issues related to this problem as well as working with military units.&nbsp\; It is an issue that can be extremely disruptive for commercial businesses too.&nbsp\; COL Catlett will share interesting stories and statistics\, as well as how the Army is responding to the problem.&nbsp\; It is a battle to change behavior.&nbsp\; </span><br />\n&nbsp\;<br />\n<strong><span style="font-family:arial\,sans-serif\;">Luncheon Choices:</span></strong><br />\n<span style="font-family:arial\,sans-serif\;">Steak\, Fish\, or Chef Salad</span></span><br />\n<br />\n<br />\n&nbsp\;
LOCATION:Reardon Convention Center 520 Minnesota Avenue Kansas City\, KS 66101
UID:e.1213.254
SEQUENCE:3
DTSTAMP:20260421T065912Z
URL:https://business.kckchamber.com/events/details/congressional-forum-june-2015-06-19-2015-254
END:VEVENT

END:VCALENDAR
