BEGIN:VCALENDAR
VERSION:2.0
PRODID:-//ChamberMaster//Event Calendar 2.0//EN
METHOD:PUBLISH
X-PUBLISHED-TTL:P3D
REFRESH-INTERVAL:P3D
CALSCALE:GREGORIAN
BEGIN:VEVENT
DTSTART:20131122T173000Z
DTEND:20131122T190000Z
X-MICROSOFT-CDO-ALLDAYEVENT:FALSE
SUMMARY:Congressional Forum November 2013
DESCRIPTION:Congressional Forum is sponsored and administered by the KCK Chamber of Commerce. It is a separate event from other Chamber programs and has an additional fee for membership. For information about Congressional Forum\, please contact Cindy Cash.
X-ALT-DESC;FMTTYPE=text/html:Congressional Forum is sponsored and administered by the KCK Chamber of Commerce. It is a separate event&nbsp\;from other Chamber programs and has an additional fee&nbsp\;for membership. For information about Congressional Forum\, please contact Cindy Cash.
LOCATION:
UID:e.1213.102
SEQUENCE:3
DTSTAMP:20260424T125329Z
URL:https://business.kckchamber.com/events/details/congressional-forum-november-2013-11-22-2013-102
END:VEVENT

END:VCALENDAR
