BEGIN:VCALENDAR
VERSION:2.0
PRODID:-//ChamberMaster//Event Calendar 2.0//EN
METHOD:PUBLISH
X-PUBLISHED-TTL:P3D
REFRESH-INTERVAL:P3D
CALSCALE:GREGORIAN
BEGIN:VEVENT
DTSTART:20151120T173000Z
DTEND:20151120T191500Z
X-MICROSOFT-CDO-ALLDAYEVENT:FALSE
SUMMARY:Congressional Forum November 2015
DESCRIPTION:Congressional Forum celebrates it's 47 th year in service to the business community in Kansas City\, KS. We are proud to be one of the few chambers with this program and the longest running Congressional Forum in United States \n\n \n\nFeatured Presentation:\n\nCongressman Yoder will help the KCK Chamber celebrate Global Entrepreneurship week by sharing statistics and trends on entrepreneurial developments in Kansas and Wyandotte County at this month's Congressional Forum.  Join us to hear more about what's happening for start up businesses and the growth of industry in our area and region.\n\n \n\nLuncheon Choices:\n\nSteak\, Fish\, or Chef Salad\n\n\n\nCancellations made with notice of at least 72 hours of the scheduled event will be fully refundable.  When cancellations are made with less than 72 hours advance notice of the event members will be charged the full amount of the registration fee.
X-ALT-DESC;FMTTYPE=text/html:<span style="font-size: 14px\;"><span style="font-family: arial\,sans-serif\;">Congressional Forum celebrates it&#39\;s 47&nbsp\;th&nbsp\;year in service to the business community in Kansas City\, KS. We are proud to be one of the few chambers with this program and the longest running Congressional Forum in United States </span><br />\n&nbsp\;<br />\n<strong><span style="font-family: arial\,sans-serif\;">Featured Presentation:</span></strong><br />\n<font face="arial\, sans-serif">Congressman Yoder will help the KCK Chamber celebrate Global Entrepreneurship week by sharing statistics and trends on entrepreneurial developments in Kansas and Wyandotte County at this month&#39\;s Congressional Forum. &nbsp\;Join us to hear more about what&#39\;s happening for start up businesses and the growth of industry in our area and region.</font><br />\n&nbsp\;<br />\n<strong><span style="font-family: arial\,sans-serif\;">Luncheon Choices:</span></strong><br />\n<span style="font-family: arial\,sans-serif\;">Steak\, Fish\, or Chef Salad</span></span><br />\n<br />\n<span style="font-family: arial\; font-size: 11.8181819915771px\; line-height: 17.4545459747314px\;">Cancellations&nbsp\;made with notice of at least 72 hours of the scheduled event will be fully refundable. &nbsp\;When&nbsp\;</span><span style="font-family: arial\; font-size: 11.8181819915771px\; line-height: 17.4545459747314px\;">cancellations&nbsp\;are made with less than 72 hours advance notice of the event members will be c</span><span style="font-family: arial\; font-size: 11.8181819915771px\; line-height: 17.4545459747314px\;">harged the full amount of the registration fee.&nbsp\;</span><br />\n<br />\n<br />\n&nbsp\;
LOCATION:Hilton Garden Inn-Eisenhower Room 520 Minnesota Avenue Kansas City\, KS 66101 *Please note new location for November Luncheon
UID:e.1213.261
SEQUENCE:3
DTSTAMP:20260420T231614Z
URL:https://business.kckchamber.com/events/details/congressional-forum-november-2015-11-20-2015-261
END:VEVENT

END:VCALENDAR
